BEGIN:VCALENDAR
VERSION:2.0
PRODID:-//jEvents 2.0 for Joomla//EN
CALSCALE:GREGORIAN
METHOD:PUBLISH
BEGIN:VEVENT
UID:f9fbbb25d505853e5584f20ddd056cf8
CATEGORIES:Tischtennis
CREATED:20190208T185601
SUMMARY:Tischtennis: KSV Hoheneck 3 - TVA 3
DESCRIPTION:
DTSTAMP:20260420T233713
DTSTART:20190330T173000
DTEND:20190330T203000
SEQUENCE:0
TRANSP:OPAQUE
END:VEVENT
END:VCALENDAR