BEGIN:VCALENDAR
VERSION:2.0
PRODID:-//jEvents 2.0 for Joomla//EN
CALSCALE:GREGORIAN
METHOD:PUBLISH
BEGIN:VEVENT
UID:4fc9abb00a067e3904391095e42dc1d5
CATEGORIES:Fußball Aktive extern
CREATED:20190121T125814
SUMMARY:Fußball: TVA I -  FC Marbach
LOCATION:Sportplatz Aldingen
DESCRIPTION:
DTSTAMP:20260422T150906
DTSTART:20190607T193000
DTEND:20190607T210000
SEQUENCE:0
TRANSP:OPAQUE
END:VEVENT
END:VCALENDAR