BEGIN:VCALENDAR
VERSION:2.0
PRODID:-//jEvents 2.0 for Joomla//EN
CALSCALE:GREGORIAN
METHOD:PUBLISH
BEGIN:VEVENT
UID:b6dfd069445307b35dbef3413bb14d8e
CATEGORIES:Tischtennis extern
CREATED:20190119T234632
SUMMARY:Tischtennis: TVA 3 - TTV Erdmannhausen 2
LOCATION:Pattonville
DESCRIPTION:
DTSTAMP:20260424T210857
DTSTART:20190126T180000
DTEND:20190126T210000
SEQUENCE:0
TRANSP:OPAQUE
END:VEVENT
END:VCALENDAR