BEGIN:VCALENDAR
VERSION:2.0
PRODID:-//jEvents 2.0 for Joomla//EN
CALSCALE:GREGORIAN
METHOD:PUBLISH
BEGIN:VEVENT
UID:6e806faa1953d85d34cddff7724839e7
CATEGORIES:Tischtennis extern
CREATED:20181108T160329
SUMMARY:Tischtennis U18: TVA 1 - TV Tamm
LOCATION:Pattonville
DESCRIPTION:
DTSTAMP:20260425T203407
DTSTART:20181208T140000
DTEND:20181208T160000
SEQUENCE:0
TRANSP:OPAQUE
END:VEVENT
END:VCALENDAR