BEGIN:VCALENDAR
VERSION:2.0
PRODID:-//jEvents 2.0 for Joomla//EN
CALSCALE:GREGORIAN
METHOD:PUBLISH
BEGIN:VEVENT
UID:b8b6ca06892df8161b19ae7ffcc6a5e7
CATEGORIES:Tischtennis extern
CREATED:20181108T155423
SUMMARY:Tischtennis: TVA 4 - TSV Korntal 4
LOCATION:Pattonville
DESCRIPTION:
DTSTAMP:20260423T190243
DTSTART:20181208T180000
DTEND:20181208T200000
SEQUENCE:0
TRANSP:OPAQUE
END:VEVENT
END:VCALENDAR