BEGIN:VCALENDAR
VERSION:2.0
PRODID:-//jEvents 2.0 for Joomla//EN
CALSCALE:GREGORIAN
METHOD:PUBLISH
BEGIN:VEVENT
UID:e6b1acc17073fd8c1055ee64ac0d241f
CATEGORIES:Tischtennis
CREATED:20181108T155254
SUMMARY:Tischtennis: TSV Schwieberdingen 4 - TVA 4
DESCRIPTION:
DTSTAMP:20260420T082126
DTSTART:20181117T180000
DTEND:20181117T200000
SEQUENCE:0
TRANSP:OPAQUE
END:VEVENT
END:VCALENDAR