BEGIN:VCALENDAR
VERSION:2.0
PRODID:-//jEvents 2.0 for Joomla//EN
CALSCALE:GREGORIAN
METHOD:PUBLISH
BEGIN:VEVENT
UID:0158fc475c5132c3dfeb92f028fc68bb
CATEGORIES:Tischtennis extern
CREATED:20181008T114204
SUMMARY:Tischtennis Sen40: TVA - RKV-06 Neckarweihingen
LOCATION:Pattonville
DESCRIPTION:
DTSTAMP:20260420T191804
DTSTART:20181019T200000
DTEND:20181019T220000
SEQUENCE:0
TRANSP:OPAQUE
END:VEVENT
END:VCALENDAR