BEGIN:VCALENDAR
VERSION:2.0
PRODID:-//jEvents 2.0 for Joomla//EN
CALSCALE:GREGORIAN
METHOD:PUBLISH
BEGIN:VEVENT
UID:2b60cd2bd49be0b18c17e197f74878a8
CATEGORIES:Fußball Aktive extern
CREATED:20180807T165652
SUMMARY:Fußball: TVA I - NK Crotia Bietigheim
LOCATION:Jahnsportplatz
DESCRIPTION:
DTSTAMP:20260420T131341
DTSTART:20180812T150000
DTEND:20180812T170000
SEQUENCE:0
TRANSP:OPAQUE
END:VEVENT
END:VCALENDAR