BEGIN:VCALENDAR
VERSION:2.0
PRODID:-//jEvents 2.0 for Joomla//EN
CALSCALE:GREGORIAN
METHOD:PUBLISH
BEGIN:VEVENT
UID:e8b6881ac2a0eab8b27bd4de6c1005d4
CATEGORIES:Fußball Aktive extern
CREATED:20180619T122107
SUMMARY:Public Viewing: Deutschland - Schweden
LOCATION:Gemeindehalle Aldingen
DESCRIPTION:
DTSTAMP:20260422T065029
DTSTART:20180623T200000
DTEND:20180623T220000
SEQUENCE:0
TRANSP:OPAQUE
END:VEVENT
END:VCALENDAR