BEGIN:VCALENDAR
VERSION:2.0
PRODID:-//jEvents 2.0 for Joomla//EN
CALSCALE:GREGORIAN
METHOD:PUBLISH
BEGIN:VEVENT
UID:12f00582f3a48efdf36ffd37553e4b80
CATEGORIES:Fußball Aktive extern
CREATED:20180321T105222
SUMMARY:Fußball: TVA II - GSV Pleidelsheim
DESCRIPTION:
DTSTAMP:20260424T043552
DTSTART:20180325T143000
DTEND:20180325T160000
SEQUENCE:0
TRANSP:OPAQUE
END:VEVENT
END:VCALENDAR