BEGIN:VCALENDAR
VERSION:2.0
PRODID:-//jEvents 2.0 for Joomla//EN
CALSCALE:GREGORIAN
METHOD:PUBLISH
BEGIN:VEVENT
UID:5d6e44839a3c317c025e8018d08c5991
CATEGORIES:Tischtennis
CREATED:20180312T102708
SUMMARY:Tischtennis: TSV Münchingen 3 - TVA 4
DESCRIPTION:
DTSTAMP:20260424T212132
DTSTART:20180317T180000
DTEND:20180317T210000
SEQUENCE:0
TRANSP:OPAQUE
END:VEVENT
END:VCALENDAR