BEGIN:VCALENDAR
VERSION:2.0
PRODID:-//jEvents 2.0 for Joomla//EN
CALSCALE:GREGORIAN
METHOD:PUBLISH
BEGIN:VEVENT
UID:823ccfbb1138318304f9b8cc48d0ada5
CATEGORIES:Handball
CREATED:20180221T081054
SUMMARY:Handball wJC 2: TVA - TSV Wiernsheim
DESCRIPTION:
DTSTAMP:20260422T120446
DTSTART:20180318T180000
DTEND:20180318T193000
SEQUENCE:0
TRANSP:OPAQUE
END:VEVENT
END:VCALENDAR