BEGIN:VCALENDAR
VERSION:2.0
PRODID:-//jEvents 2.0 for Joomla//EN
CALSCALE:GREGORIAN
METHOD:PUBLISH
BEGIN:VEVENT
UID:fe3a2bc51ef5e8ec95a18b3fdbdc6996
CATEGORIES:Tischtennis extern
CREATED:20180205T093526
SUMMARY:Tischtennis: TVA 4 - TSV Bietigheim 4
LOCATION:Pattonville
DESCRIPTION:
DTSTAMP:20260425T224711
DTSTART:20180210T180000
DTEND:20180210T210000
SEQUENCE:0
TRANSP:OPAQUE
END:VEVENT
END:VCALENDAR