BEGIN:VCALENDAR
VERSION:2.0
PRODID:-//jEvents 2.0 for Joomla//EN
CALSCALE:GREGORIAN
METHOD:PUBLISH
BEGIN:VEVENT
UID:44e5757040c74c63743e28e33443b5aa
CATEGORIES:Fußball Aktive extern
CREATED:20180124T175449
SUMMARY:Fußball-Freundsch.: TVA I-TSV Allmersbach
LOCATION:Jahnsportplatz
DESCRIPTION:
DTSTAMP:20260419T165057
DTSTART:20180128T150000
DTEND:20180128T170000
SEQUENCE:0
TRANSP:OPAQUE
END:VEVENT
END:VCALENDAR