BEGIN:VCALENDAR
VERSION:2.0
PRODID:-//jEvents 2.0 for Joomla//EN
CALSCALE:GREGORIAN
METHOD:PUBLISH
BEGIN:VEVENT
UID:1b97a1572ecfe74d37fa72f6a2a6c361
CATEGORIES:Handball
CREATED:20180117T091612
SUMMARY:Handball Männer 1: TVA - HSG Marb/Riel 2
DESCRIPTION:
DTSTAMP:20260422T115010
DTSTART:20180127T180000
DTEND:20180127T193000
SEQUENCE:0
TRANSP:OPAQUE
END:VEVENT
END:VCALENDAR