BEGIN:VCALENDAR
VERSION:2.0
PRODID:-//jEvents 2.0 for Joomla//EN
CALSCALE:GREGORIAN
METHOD:PUBLISH
BEGIN:VEVENT
UID:08d714c933a3a1641a5a44cf764ee8b2
CATEGORIES:Tischtennis extern
CREATED:20180116T102519
SUMMARY:Tischtennis U18 Pokal: TVA - GSV Hemmingen
LOCATION:Pattonville
DESCRIPTION:
DTSTAMP:20260421T220409
DTSTART:20180119T190000
DTEND:20180119T210000
SEQUENCE:0
TRANSP:OPAQUE
END:VEVENT
END:VCALENDAR