BEGIN:VCALENDAR
VERSION:2.0
PRODID:-//jEvents 2.0 for Joomla//EN
CALSCALE:GREGORIAN
METHOD:PUBLISH
BEGIN:VEVENT
UID:85129caae5447398834b4dc8dfb49791
CATEGORIES:Handball
CREATED:20180110T103820
SUMMARY:Handball Männer 1: HSG Neckar FBH 2 - TVA
LOCATION:Ludwigsburg Sporthalle Kugelberg
DESCRIPTION:
DTSTAMP:20260423T235948
DTSTART:20180120T140000
DTEND:20180120T153000
SEQUENCE:0
TRANSP:OPAQUE
END:VEVENT
END:VCALENDAR