BEGIN:VCALENDAR
VERSION:2.0
PRODID:-//jEvents 2.0 for Joomla//EN
CALSCALE:GREGORIAN
METHOD:PUBLISH
BEGIN:VEVENT
UID:4089b2bc55100af83bb4de6a735c2261
CATEGORIES:Handball
CREATED:20171201T213604
SUMMARY:Handball Männer 1: TVA - SV LB-Oßweil 2
LOCATION:Aldingen Sporthalle Regental
DESCRIPTION:
DTSTAMP:20260421T015414
DTSTART:20180114T184500
DTEND:20180114T201500
SEQUENCE:0
TRANSP:OPAQUE
END:VEVENT
END:VCALENDAR