BEGIN:VCALENDAR
VERSION:2.0
PRODID:-//jEvents 2.0 for Joomla//EN
CALSCALE:GREGORIAN
METHOD:PUBLISH
BEGIN:VEVENT
UID:d0de2b95a803ddc53d92331b23142537
CATEGORIES:Handball
CREATED:20171201T213428
SUMMARY:Handball Männer 2: TVA - TV Gr'bottwar 3
LOCATION:Aldingen Sporthalle Regental
DESCRIPTION:
DTSTAMP:20260425T213112
DTSTART:20180114T144500
DTEND:20180114T161500
SEQUENCE:0
TRANSP:OPAQUE
END:VEVENT
END:VCALENDAR