BEGIN:VCALENDAR
VERSION:2.0
PRODID:-//jEvents 2.0 for Joomla//EN
CALSCALE:GREGORIAN
METHOD:PUBLISH
BEGIN:VEVENT
UID:76433579b002c5468ab41b3c463439fe
CATEGORIES:Handball
CREATED:20171201T212637
SUMMARY:Handball wJC 2: TVA - TSV Oberriex.
LOCATION:Aldingen Sporthalle Regental
DESCRIPTION:
DTSTAMP:20260421T234300
DTSTART:20171209T143000
DTEND:20171209T160000
SEQUENCE:0
TRANSP:OPAQUE
END:VEVENT
END:VCALENDAR