BEGIN:VCALENDAR
VERSION:2.0
PRODID:-//jEvents 2.0 for Joomla//EN
CALSCALE:GREGORIAN
METHOD:PUBLISH
BEGIN:VEVENT
UID:eca759cceafcb7fe962b8d63e5f547e9
CATEGORIES:Handball
CREATED:20171201T210834
SUMMARY:Handball Männer 1: TVA - HG Stein/Klein 2
LOCATION:Aldingen Sporthalle Regental
DESCRIPTION:
DTSTAMP:20260424T021725
DTSTART:20171209T200000
DTEND:20171209T213000
SEQUENCE:0
TRANSP:OPAQUE
END:VEVENT
END:VCALENDAR