BEGIN:VCALENDAR
VERSION:2.0
PRODID:-//jEvents 2.0 for Joomla//EN
CALSCALE:GREGORIAN
METHOD:PUBLISH
BEGIN:VEVENT
UID:bd830c1fc3746868d505091c272058a9
CATEGORIES:Tischtennis
CREATED:20171127T163055
SUMMARY:Tischtennis Sen40: TTC Bietigheim-Bissingen - TVA
DESCRIPTION:
DTSTAMP:20260426T020918
DTSTART:20171201T200000
DTEND:20171201T220000
SEQUENCE:0
TRANSP:OPAQUE
END:VEVENT
END:VCALENDAR