BEGIN:VCALENDAR
VERSION:2.0
PRODID:-//jEvents 2.0 for Joomla//EN
CALSCALE:GREGORIAN
METHOD:PUBLISH
BEGIN:VEVENT
UID:3b652cd5e3cad938d00dff2fbf59d012
CATEGORIES:Tischtennis
CREATED:20170926T085101
SUMMARY:Tischtennis U13: TSG Steinheim 1 - TVA
DESCRIPTION:
DTSTAMP:20260426T000008
DTSTART:20170930T130000
DTEND:20170930T150000
SEQUENCE:0
TRANSP:OPAQUE
END:VEVENT
END:VCALENDAR