BEGIN:VCALENDAR
VERSION:2.0
PRODID:-//jEvents 2.0 for Joomla//EN
CALSCALE:GREGORIAN
METHOD:PUBLISH
BEGIN:VEVENT
UID:5820697cd3203b07240da793e02ee506
CATEGORIES:Tischtennis
CREATED:20170911T104952
SUMMARY:Tischtennis U18: TSV Asperg - TVA
DESCRIPTION:
DTSTAMP:20260419T153430
DTSTART:20170916T140000
DTEND:20170916T160000
SEQUENCE:0
TRANSP:OPAQUE
END:VEVENT
END:VCALENDAR