BEGIN:VCALENDAR
VERSION:2.0
PRODID:-//jEvents 2.0 for Joomla//EN
CALSCALE:GREGORIAN
METHOD:PUBLISH
BEGIN:VEVENT
UID:23aaf3eb50a5d2741e4cb32495f2c4a4
CATEGORIES:Tischtennis
CREATED:20170411T142424
SUMMARY:TT-Abteilungsversammlung
LOCATION:Paradiso
DESCRIPTION:
DTSTAMP:20260419T151905
DTSTART:20170601T200000
DTEND:20170601T213000
SEQUENCE:0
TRANSP:OPAQUE
END:VEVENT
END:VCALENDAR