BEGIN:VCALENDAR
VERSION:2.0
PRODID:-//jEvents 2.0 for Joomla//EN
CALSCALE:GREGORIAN
METHOD:PUBLISH
BEGIN:VEVENT
UID:d1995de8e471ab1a80887100956fa779
CATEGORIES:Fußball Aktive extern
CREATED:20170212T123025
SUMMARY:Fußball: TVA 1-SV Germania Bietigheim
LOCATION:Jahnsportplatz
DESCRIPTION:
DTSTAMP:20260425T223536
DTSTART:20170319T150000
DTEND:20170319T170000
SEQUENCE:0
TRANSP:OPAQUE
END:VEVENT
END:VCALENDAR