BEGIN:VCALENDAR
VERSION:2.0
PRODID:-//jEvents 2.0 for Joomla//EN
CALSCALE:GREGORIAN
METHOD:PUBLISH
BEGIN:VEVENT
UID:e07945e8660e883baa44ed67a7c0ab61
CATEGORIES:Tischtennis
CREATED:20170123T085028
SUMMARY:TT-Abteilungsversammlung
LOCATION:Paradiso
DESCRIPTION:Tagesordnung TT-Abt.-Versammlung am 3.2.2017 \n1. Berichte der Abt.-Leitung
 , Jugendleitung, Kassier\n2. Wahl des Abteilungsvorstands\n3. Wahl der TT-M
 itglieder für den Vereinsrat\n4. Mini-Meisterschaft 11.02.2017\n5. Termine 
 der Abteilung und des Gesamtvereins\n6. Einrichtung eines Spendenkontos (A.
  Bledig)\n7. Verschiedenes\n
X-ALT-DESC;FMTTYPE=text/html:<p><strong><span style="text-decoration: underline;">Tagesordnung TT-Abt.-V
 ersammlung am 3.2.2017 </span></strong></p><p>1. Berichte der Abt.-Leitung,
  Jugendleitung, Kassier</p><p>2. Wahl des Abteilungsvorstands</p><p>3. Wahl
  der TT-Mitglieder für den Vereinsrat</p><p>4. Mini-Meisterschaft 11.02.201
 7</p><p>5. Termine der Abteilung und des Gesamtvereins</p><p>6. Einrichtung
  eines Spendenkontos (A. Bledig)</p><p>7. Verschiedenes</p>
DTSTAMP:20260420T013704
DTSTART:20170203T220000
DTEND:20170203T233000
SEQUENCE:0
TRANSP:OPAQUE
END:VEVENT
END:VCALENDAR