BEGIN:VCALENDAR
VERSION:2.0
PRODID:-//jEvents 2.0 for Joomla//EN
CALSCALE:GREGORIAN
METHOD:PUBLISH
BEGIN:VEVENT
UID:a54bf7bea0cfee261ce060c58d537959
CATEGORIES:Verein
CREATED:20161209T113205
SUMMARY:Vereinsrat
LOCATION:Paradiso
DESCRIPTION:
DTSTAMP:20260425T113036
DTSTART:20170118T200000
DTEND:20170118T210000
SEQUENCE:0
TRANSP:OPAQUE
END:VEVENT
END:VCALENDAR