BEGIN:VCALENDAR
VERSION:2.0
PRODID:-//jEvents 2.0 for Joomla//EN
CALSCALE:GREGORIAN
METHOD:PUBLISH
BEGIN:VEVENT
UID:cd5a6136a8328d4553dfd18016fbf02f
CATEGORIES:Tischtennis
CREATED:20161031T090304
SUMMARY:Tischtennis Sen60: TVA - TSV Bietigheim
LOCATION:Pattonville
DESCRIPTION:
DTSTAMP:20260425T170645
DTSTART:20161109T200000
DTEND:20161109T220000
SEQUENCE:0
TRANSP:OPAQUE
END:VEVENT
END:VCALENDAR