BEGIN:VCALENDAR
VERSION:2.0
PRODID:-//jEvents 2.0 for Joomla//EN
CALSCALE:GREGORIAN
METHOD:PUBLISH
BEGIN:VEVENT
UID:cc849e2bb59b8f89d4283aeec6a48a92
CATEGORIES:Fußball Aktive extern
CREATED:20161026T170907
SUMMARY:19. Hallen-ElternCup
LOCATION:Regentalhalle
DESCRIPTION:
X-EXTRAINFO:Hierfür würden wir uns wieder über mindestens 8 teilnehmende Mannschaften f
 reuen, die sich im bekannten Turniermodus messen dürfen!\n\nGemäß den letzt
 en Turniermeldungen würden wir aktuell von nachfolgenden Mannschaften ausge
 hen:\n\n-	Aktive\n-	A`1999/98-Junioren\n-	B`2000/01-Junioren\n-	D`2004-Juni
 oren\n-	D`2005-Junioren\n-	E`2006-Junioren\n-	E`2007-Junioren\n-	F`2008-Jun
 ioren\n-	F`2009-Junioren\n-	F`2010-Junioren\n-	F`2011-Junioren\n\nGerne kön
 nen jedoch auch weitere Mannschaften zusätzlich gemeldet werden.\n\nSpielbe
 rechtigt sind ausschließlich Erziehungsberechtigte, Elternvertreter und Tra
 iner/Betreuer.\nEine Mannschaft besteht aus 1 Torspieler, 4 Feldspielern un
 d beliebigen Einwechselspielern.\n\nDer Torspieler kann extern beliebig gew
 ählt werden oder auf vorherige Anfrage gestellt werden!\n\nWährend der Part
 ie dürfen sich als Feldspieler lediglich maximal 2 aktive Jugendtrainer zei
 tgleich in einer Mannschaft auf dem Feld befinden!\n\nIn diesem Sinne würde
 n wir uns über Eure Teilnahmebestätigung bis zum 11.12.2016 freuen,\num Euc
 h zeitnah den Turnierplan zukommen lassen zu können!\n
DTSTAMP:20260423T004514
DTSTART:20170107T180000
DTEND:20170107T210000
SEQUENCE:0
TRANSP:OPAQUE
END:VEVENT
END:VCALENDAR