BEGIN:VCALENDAR
VERSION:2.0
PRODID:-//jEvents 2.0 for Joomla//EN
CALSCALE:GREGORIAN
METHOD:PUBLISH
BEGIN:VEVENT
UID:969f25cd7caca6c9a5e72ae8aa061cc1
CATEGORIES:Tischtennis extern
CREATED:20161006T093717
SUMMARY:Tischtennis: TTV Pleidelsheim 2 - TVA 2
DESCRIPTION:
DTSTAMP:20260421T144524
DTSTART:20161008T191500
DTEND:20161008T221500
SEQUENCE:0
TRANSP:OPAQUE
END:VEVENT
END:VCALENDAR