BEGIN:VCALENDAR
VERSION:2.0
PRODID:-//jEvents 2.0 for Joomla//EN
CALSCALE:GREGORIAN
METHOD:PUBLISH
BEGIN:VEVENT
UID:a0024702227eab9a891f6b6138c9d7f4
CATEGORIES:Verein
CREATED:20160513T100608
SUMMARY:Vereinsrat
LOCATION:Paradiso
DESCRIPTION:
DTSTAMP:20260422T184720
DTSTART:20160704T200000
DTEND:20160704T220000
SEQUENCE:0
TRANSP:OPAQUE
END:VEVENT
END:VCALENDAR