BEGIN:VCALENDAR
VERSION:2.0
PRODID:-//jEvents 2.0 for Joomla//EN
CALSCALE:GREGORIAN
METHOD:PUBLISH
BEGIN:VEVENT
UID:439fa7580c1abf5c77ea1c6d0ee0f617
CATEGORIES:Tischtennis extern
CREATED:20160314T092647
SUMMARY:Tischtennis Sen60: RKV Neckarweihingen - TVA
DESCRIPTION:
DTSTAMP:20260420T045824
DTSTART:20160318T200000
DTEND:20160318T220000
SEQUENCE:0
TRANSP:OPAQUE
END:VEVENT
END:VCALENDAR