BEGIN:VCALENDAR
VERSION:2.0
PRODID:-//jEvents 2.0 for Joomla//EN
CALSCALE:GREGORIAN
METHOD:PUBLISH
BEGIN:VEVENT
UID:dfcbdb97da5560466c63fdd08a82bc37
CATEGORIES:Tischtennis extern
CREATED:20160217T120256
SUMMARY:Tischtennis: RKV Neckarweihingen 3 - TVA 2
DESCRIPTION:
DTSTAMP:20260419T144549
DTSTART:20160221T090000
DTEND:20160221T120000
SEQUENCE:0
TRANSP:OPAQUE
END:VEVENT
END:VCALENDAR