BEGIN:VCALENDAR
VERSION:2.0
PRODID:-//jEvents 2.0 for Joomla//EN
CALSCALE:GREGORIAN
METHOD:PUBLISH
BEGIN:VEVENT
UID:d27127fa1718f9121bf0358488012972
CATEGORIES:Tischtennis extern
CREATED:20160201T085409
SUMMARY:Tischtennis: TTV Erdmannhausen 2 - TVA 4
DESCRIPTION:
DTSTAMP:20260424T013613
DTSTART:20160207T130000
DTEND:20160207T160000
SEQUENCE:0
TRANSP:OPAQUE
END:VEVENT
END:VCALENDAR