BEGIN:VCALENDAR
VERSION:2.0
PRODID:-//jEvents 2.0 for Joomla//EN
CALSCALE:GREGORIAN
METHOD:PUBLISH
BEGIN:VEVENT
UID:edd594f2b095169da6312dc28426e8ec
CATEGORIES:Fußball Aktive extern
CREATED:20160131T125123
SUMMARY:Fußball: TVA 1 FV Ingersheim II
LOCATION:Jahnsportplatz
DESCRIPTION:
DTSTAMP:20260421T223852
DTSTART:20160516T150000
DTEND:20160516T170000
SEQUENCE:0
TRANSP:OPAQUE
END:VEVENT
END:VCALENDAR