BEGIN:VCALENDAR
VERSION:2.0
PRODID:-//jEvents 2.0 for Joomla//EN
CALSCALE:GREGORIAN
METHOD:PUBLISH
BEGIN:VEVENT
UID:0dece875b0943df185e5fbcc16d9759b
CATEGORIES:Tischtennis extern
CREATED:20160125T101224
SUMMARY:Tischtennis: TVA 2 - TSV Kleinsachsenheim 3
LOCATION:Pattonville
DESCRIPTION:
DTSTAMP:20260424T074424
DTSTART:20160131T090000
DTEND:20160131T120000
SEQUENCE:0
TRANSP:OPAQUE
END:VEVENT
END:VCALENDAR