BEGIN:VCALENDAR
VERSION:2.0
PRODID:-//jEvents 2.0 for Joomla//EN
CALSCALE:GREGORIAN
METHOD:PUBLISH
BEGIN:VEVENT
UID:f4df0940ba3d131dc0e9c18ee3ce4415
CATEGORIES:Tischtennis
CREATED:20230911T153104
SUMMARY:Tischtennis J19: KSG Gerlingen - TVA
DESCRIPTION:
DTSTAMP:20260421T042611
DTSTART:20230923T143000
DTEND:20230923T163000
SEQUENCE:0
TRANSP:OPAQUE
END:VEVENT
END:VCALENDAR