BEGIN:VCALENDAR
VERSION:2.0
PRODID:-//jEvents 2.0 for Joomla//EN
CALSCALE:GREGORIAN
METHOD:PUBLISH
BEGIN:VEVENT
UID:a68e2b2a8faffb03458bb6526fb2902e
CATEGORIES:Fußball Aktive extern
CREATED:20230119T161941
SUMMARY:Fußball Frauen: TVA -  FC Biegelk. Erdmannhausen II
DESCRIPTION:
DTSTAMP:20260422T184540
DTSTART:20230402T103000
DTEND:20230402T120000
SEQUENCE:0
TRANSP:OPAQUE
END:VEVENT
END:VCALENDAR