BEGIN:VCALENDAR
VERSION:2.0
PRODID:-//jEvents 2.0 for Joomla//EN
CALSCALE:GREGORIAN
METHOD:PUBLISH
BEGIN:VEVENT
UID:ba403b232d5d00de7fd04f3b5d19c492
CATEGORIES:Handball extern
CREATED:20221012T193527
SUMMARY:Handball Frauen: TVA - SF Schwaikheim 2
LOCATION:Sporthalle Regental\, Meslay-du-Maine-Straße 24\, 71686 Remseck am Neckar
DESCRIPTION:
DTSTAMP:20260420T143615
DTSTART:20230312T164500
SEQUENCE:0
TRANSP:OPAQUE
END:VEVENT
END:VCALENDAR