BEGIN:VCALENDAR
VERSION:2.0
PRODID:-//jEvents 2.0 for Joomla//EN
CALSCALE:GREGORIAN
METHOD:PUBLISH
BEGIN:VEVENT
UID:b113b53916a37b52bc6c126192bd5926
CATEGORIES:Tischtennis
CREATED:20220925T150842
SUMMARY:Tischtennis: J19 TSV Heimsheim - TVA I
LOCATION:Heimsheim
DESCRIPTION:
CONTACT:Armin
DTSTAMP:20260421T041451
DTSTART:20221126T140000
DTEND:20221126T160000
SEQUENCE:0
TRANSP:OPAQUE
END:VEVENT
END:VCALENDAR