BEGIN:VCALENDAR
VERSION:2.0
PRODID:-//jEvents 2.0 for Joomla//EN
CALSCALE:GREGORIAN
METHOD:PUBLISH
BEGIN:VEVENT
UID:9abda84d119f45177850cb46eba23977
CATEGORIES:Fußball Aktive extern
CREATED:20220304T112528
SUMMARY:Fußball: TVA - TSV Münchingen 
DESCRIPTION:<p><a href="https://www.fussball.de/mannschaft/sv-perouse-sv-perouse-wuertt
 emberg/-/saison/2122/team-id/011MIEE3D4000000VTVG0001VTR8C1K7" class="club-
 wrapper">SV Perouse </a><a href="https://www.fussball.de/mannschaft/sv-pero
 use-sv-perouse-wuerttemberg/-/saison/2122/team-id/011MIEE3D4000000VTVG0001V
 TR8C1K7" class="club-wrapper">SV Perouse </a></p>
DTSTAMP:20260422T225706
DTSTART:20220430T193000
DTEND:20220430T210000
SEQUENCE:0
TRANSP:OPAQUE
END:VEVENT
END:VCALENDAR