BEGIN:VCALENDAR
VERSION:2.0
PRODID:-//jEvents 2.0 for Joomla//EN
CALSCALE:GREGORIAN
METHOD:PUBLISH
BEGIN:VEVENT
UID:ce1a6bef09cea97fd4b086e46ea1aaa0
CATEGORIES:Fußball Aktive extern
CREATED:20220107T145436
SUMMARY:Fußball: TVA - FV Löchgau II 
DESCRIPTION:
DTSTAMP:20260420T070116
DTSTART:20220306T150000
DTEND:20220306T170000
SEQUENCE:0
TRANSP:OPAQUE
END:VEVENT
END:VCALENDAR