BEGIN:VCALENDAR
VERSION:2.0
PRODID:-//jEvents 2.0 for Joomla//EN
CALSCALE:GREGORIAN
METHOD:PUBLISH
BEGIN:VEVENT
UID:6d3aac7260af16ee0254ad2e13b7bf06
CATEGORIES:Tischtennis extern
CREATED:20210909T230351
SUMMARY:Tischtennis Herren: TVA 3 - TTV Pleidelsheim 5
DESCRIPTION:
DTSTAMP:20260421T155930
DTSTART:20211204T180000
DTEND:20211204T210000
SEQUENCE:0
TRANSP:OPAQUE
END:VEVENT
END:VCALENDAR