BEGIN:VCALENDAR
VERSION:2.0
PRODID:-//jEvents 2.0 for Joomla//EN
CALSCALE:GREGORIAN
METHOD:PUBLISH
BEGIN:VEVENT
UID:e7c331dbdbe58ee9db06c55e17dba85a
CATEGORIES:Tischtennis extern
CREATED:20210909T230011
SUMMARY:Tischtennis Herren: TVA 3 - TV Sersheim 1
DESCRIPTION:
DTSTAMP:20260424T153536
DTSTART:20211016T180000
DTEND:20211016T210000
SEQUENCE:0
TRANSP:OPAQUE
END:VEVENT
END:VCALENDAR