BEGIN:VCALENDAR
VERSION:2.0
PRODID:-//jEvents 2.0 for Joomla//EN
CALSCALE:GREGORIAN
METHOD:PUBLISH
BEGIN:VEVENT
UID:fbb023c4b170c12e3852d7e13640c3cc
CATEGORIES:Tischtennis extern
CREATED:20210909T224037
SUMMARY:Tischtennis S60: TVA - KSG Gerlingen
DESCRIPTION:
DTSTAMP:20260420T080020
DTSTART:20211020T200000
DTEND:20211020T220000
SEQUENCE:0
TRANSP:OPAQUE
END:VEVENT
END:VCALENDAR