BEGIN:VCALENDAR
VERSION:2.0
PRODID:-//jEvents 2.0 for Joomla//EN
CALSCALE:GREGORIAN
METHOD:PUBLISH
BEGIN:VEVENT
UID:e8364c9fa38944dcd561858e07ec24e2
CATEGORIES:Tischtennis
CREATED:20210909T222731
SUMMARY:Tischtennis U18: TTV Erdmannhausen 2 - TVA 2
DESCRIPTION:
DTSTAMP:20260420T113815
DTSTART:20211204T120000
DTEND:20211204T140000
SEQUENCE:0
TRANSP:OPAQUE
END:VEVENT
END:VCALENDAR