BEGIN:VCALENDAR
VERSION:2.0
PRODID:-//jEvents 2.0 for Joomla//EN
CALSCALE:GREGORIAN
METHOD:PUBLISH
BEGIN:VEVENT
UID:e0366470373a2e56d239266aebe71833
CATEGORIES:Fußball Aktive extern
CREATED:20210804T122103
SUMMARY:Fußball: TVA -  SKV Rutesheim II
DESCRIPTION:
DTSTAMP:20260425T170654
DTSTART:20211010T150000
DTEND:20211010T170000
SEQUENCE:0
TRANSP:OPAQUE
END:VEVENT
END:VCALENDAR