BEGIN:VCALENDAR
VERSION:2.0
PRODID:-//jEvents 2.0 for Joomla//EN
CALSCALE:GREGORIAN
METHOD:PUBLISH
BEGIN:VEVENT
UID:29f17cbde2f76749463ec1ecf083b4e5
CATEGORIES:Tischtennis extern
CREATED:20200920T231305
SUMMARY:Tischtennis Sen60: TVA - KSG Gerlingen
LOCATION:Pattonville
DESCRIPTION:
DTSTAMP:20260425T182431
DTSTART:20200930T200000
DTEND:20200930T220000
SEQUENCE:0
TRANSP:OPAQUE
END:VEVENT
END:VCALENDAR