BEGIN:VCALENDAR
VERSION:2.0
PRODID:-//jEvents 2.0 for Joomla//EN
CALSCALE:GREGORIAN
METHOD:PUBLISH
BEGIN:VEVENT
UID:1af19a92a1bc8875a2e461f75ad25b6b
CATEGORIES:Tischtennis extern
CREATED:20200920T230950
SUMMARY:Tischtennis U18: TVA 3 - SKV Hochberg
LOCATION:Pattonville
DESCRIPTION:
DTSTAMP:20260424T201504
DTSTART:20200926T140000
DTEND:20200926T160000
SEQUENCE:0
TRANSP:OPAQUE
END:VEVENT
END:VCALENDAR